Workbook
Name Text1: 'Sub Application Form'!$B$5

Sheet Sub Application Form
A3: Subcontractor Payment Application
D5: Subcontractor Full Invoice #:
G6: Date:
A8: Subcontractor: | G8: Project:
A9: Address: | G9: Address:
A10: City/State/Zip: | G10: City/State/Zip:
A11: Tel: | G11: Wilcox Job #:
A12: Email:
A13: To: | B13: Wilcox Construction, LLC
A14: Address: | B14: 234 5th Avenue South
B15: Edmonds, WA 98020
A16: Tel: | B16: (425) 774-4185
A17: A/P: | B17: alyse@wilcoxconstruction.com
A18: Contract Summary:
A22: The payment request which follows covers the time period from | H22: to
B24: Base Bid
A25: 1. | B25: Original Subcontract or Purchase Order Amount
A26: 2. | B26: Gross Amount of Work Completed to Date (Of Original Contract Amount) | I26: 0
A27: 3. | B27: Deduct Gross Previous Billings to Date (Of Original Contract Amount) | I27: 0
A28: 4. | B28: Gross Amount This Billing | I28: =SUM(I26-I27) -> 0
A29: 5. | B29: Gross Amount Change Orders This Billing (Per Change Order Log Tab Below) | I29: =SUM('Change Order Log'!E33) -> 0
A30: 6. | B30: Total Gross Amount Due This Billing (lines 4 and 5) | I30: =I28+I29 -> 0
A31: 7. | B31: 0.05 | C31: Retention of Line 6 | I31: =SUM(B31*I30) -> 0
A32: 8. | B32: Current Payment Due | I32: =I30-I31 -> 0
B34: Contract Amounts
A35: 9. | B35: Original Subcontract or Purchase Order Amount | I35: =I25 -> 0
A36: 10. | B36: Total Approved Change Orders (Per Change Order Log Tab Below) | I36: ='Change Order Log'!C33 -> 0
A37: 11. | B37: Total Revised Subcontract Amount (Lines 9 & 10) | I37: =SUM(I35:I36) -> 0
A40: (DO NOT WRITE BELOW THIS LINE)
A41: SUBCONTRACTOR CHECKLIST | G41: Project Manager Use Only
A42: To prevent delays in processing this application, make sure that:
A49: Wilcox Accounts Payable Use Only

Sheet Change Order Log
A1: Subcontractor Payment Application Change Orders
B3: Change Requests | C3: Approved | D3: Billed | E3: Billed | F3: Total | G3: Office Use
C4: Cost | D4: Previous | E4: This | F4: Billed | G4: Only
A5: CR #: | B5: Description | D5: Period | E5: Period | F5: To Date | G5: Code
C6: 0 | D6: 0 | E6: 0 | F6: =D6+E6 -> 0
F7: =D7+E7 -> 0
F8: =D8+E8 -> 0
F9: =D9+E9 -> 0
F10: =D10+E10 -> 0
F11: =D11+E11 -> 0
F12: =D12+E12 -> 0
F13: =D13+E13 -> 0
F14: =D14+E14 -> 0
F15: =D15+E15 -> 0
F16: =D16+E16 -> 0
F17: =D17+E17 -> 0
F18: =D18+E18 -> 0
... F31: =D31+E31 -> 0
A32: ` | F32: =D32+E32 -> 0
B33: Totals | C33: =SUM(C6:C32) -> 0 | D33: =SUM(D6:D32) -> 0 | E33: =SUM(E6:E32) -> 0 | F33: =SUM(F6:F32) -> 0

Sheet Lien Release
F2: SUBCONTRACTOR
F3: CERTIFICATION AND INTERIM LIEN/CLAIM WAIVER
B6: FROM | E6: PROJECT
B7: (Prefilled From Sub Application Form) | E7: (Prefilled From Sub Application Form)
A8: Firm Giving Release | B8: ='Sub Application Form'!$C$8 -> 0 | D8: Project Name: | E8: ='Sub Application Form'!$H$8 -> 0
A9: Business Address | B9: ='Sub Application Form'!$C$9 -> 0 | D9: Project Address: | E9: ='Sub Application Form'!$H$9 -> 0
A10: City, State, Zip Code: | B10: ='Sub Application Form'!$C$10 -> 0 | D10: City, State, Zip Code: | E10: ='Sub Application Form'!$H$10 -> 0
A12: I hereby certify that the work performed and the materials supplied to date, as shown on the above, represent the actual
A13: value of accomplishment under the terms of the Contract (and all authorized changes thereto) between the undersigned
A14: and WILCOX CONSTRUCTION, LLC, relating to the above-reference project.
A16: I also certify that payments, less applicable retention have been made through the period covered by previous payments
A17: received from the contractor for, (1) payments to all my subcontractors (sub-subcontractors), (2) labor and related union
A18: fringe benefit payments, and (3) payments for all materials and equipment rental used in or in connection with the
A19: performance of this subcontract. I further certify that I have complied with Federal, State and local tax laws including
A20: Social Security, Unemployment Compensation and Workman's Compensation and all relevant collective bargaining
A21: agreements insofar as applicable to the performance of this subcontract, and that all work performed and materials
A22: furnished have been provided without discrimination as to race, creed, color, national origin, sex or age. This certification
A23: includes the schedule of accounts on the attached Certificate of the Subcontractor/Supplier.
A25: CONDITIONAL RELEASE | D25: FINAL UNCONDITIONAL RELEASE
A26: (For value of work of current pay request)
A28: The undersigned does hereby acknowledge that upon | D28: The undersigned does hereby acknowledge that the
A29: receipt by the undersigned of a check from WILCOX | D29: undersigned has been paid and has received progress
A30: CONSTRUCTION, LLC. in the sum of: | C30: ='Sub Application Form'!$I$32 -> 0 | D30: payments for labor, services, equipment or materials
A31: and when the check has been properly endorsed and has | D31: furnished to the above referenced job and does hereby
A32: been paid by the bank upon which it was drawn, this | D32: release any and all claims and rights of lien which the
A33: document shall become effective to release any and all | D33: undersigned has on the above referenced job. This release
A34: claims and rights of lien which the undersigned has on the | D34: covers all payment for labor, services, equipment, materials
A35: above referenced job for labor, services, equipment, materials | D35: furnished and/or claims to the above referenced job through
A36: furnished and/or claims through | C36: ='Sub Application Form'!$I$22 -> 0 | D36: ='Sub Application Form'!$I$22 -> 0 | E36: only and does not cover any
A37: except it does not cover any retention or | D37: retention or items furnished after that date.
A38: items furnished thereafter. Before any recipient of this
A39: document relies on it, said party should verify evidence of | D39: NOTICE: THIS DOCUMENT WAIVES RIGHTS UNCONDI-
A40: payment to the undersigned. | D40: TIONALLY AND STATES THAT YOU HAVE BEEN PAID
D41: FOR GIVING UP THOSE RIGHTS. THIS DOCUMENT IS
A42: I CERTIFY UNDER PENALTY OF PERJURY UNDER | D42: ENFORCEABLE AGAINST YOU IF YOU SIGN IT, EVEN IF
A43: LAWS OF THE STATE OF WASHINGTON THAT THE | D43: YOU HAVE NOT BEEN PAID. IF YOU HAVE NOT BEEN
A44: ABOVE IS A TRUE AND CORRECT STATEMENT. | D44: PAID, SIGN THE CONDITIONAL RELEASE FORM
D46: I CERTIFY UNDER PENALTY OF PERJURY UNDER
D47: LAWS OF THE STATE OF WASHINGTON THAT THE
D48: ABOVE IS A TRUE AND CORRECT STATEMENT.
...
